BEGIN:VCALENDAR
VERSION:2.0
PRODID:-//Go Green Hilliard - ECPv6.15.20//NONSGML v1.0//EN
CALSCALE:GREGORIAN
METHOD:PUBLISH
X-WR-CALNAME:Go Green Hilliard
X-ORIGINAL-URL:https://gogreenhilliard.com
X-WR-CALDESC:Events for Go Green Hilliard
REFRESH-INTERVAL;VALUE=DURATION:PT1H
X-Robots-Tag:noindex
X-PUBLISHED-TTL:PT1H
BEGIN:VTIMEZONE
TZID:America/New_York
BEGIN:DAYLIGHT
TZOFFSETFROM:-0500
TZOFFSETTO:-0400
TZNAME:EDT
DTSTART:20240310T070000
END:DAYLIGHT
BEGIN:STANDARD
TZOFFSETFROM:-0400
TZOFFSETTO:-0500
TZNAME:EST
DTSTART:20241103T060000
END:STANDARD
BEGIN:DAYLIGHT
TZOFFSETFROM:-0500
TZOFFSETTO:-0400
TZNAME:EDT
DTSTART:20250309T070000
END:DAYLIGHT
BEGIN:STANDARD
TZOFFSETFROM:-0400
TZOFFSETTO:-0500
TZNAME:EST
DTSTART:20251102T060000
END:STANDARD
BEGIN:DAYLIGHT
TZOFFSETFROM:-0500
TZOFFSETTO:-0400
TZNAME:EDT
DTSTART:20260308T070000
END:DAYLIGHT
BEGIN:STANDARD
TZOFFSETFROM:-0400
TZOFFSETTO:-0500
TZNAME:EST
DTSTART:20261101T060000
END:STANDARD
END:VTIMEZONE
BEGIN:VEVENT
DTSTART;TZID=America/New_York:20251008T153000
DTEND;TZID=America/New_York:20251008T213000
DTSTAMP:20260425T223445
CREATED:20181003T172612Z
LAST-MODIFIED:20260405T193210Z
UID:10000196-1759937400-1759959000@gogreenhilliard.com
SUMMARY:Environmental Sustainability Commission Monthly Meeting
DESCRIPTION:Monthly meeting of the City of Hilliard’s Environmental Sustainability Commission \n 
URL:https://gogreenhilliard.com/event/environmental-sustainability-commission-monthly-meeting/2025-10-08/
LOCATION:Hilliard Municipal Building\, 3800 Municipal Way\, Hilliard\, OH\, 43026\, United States
END:VEVENT
BEGIN:VEVENT
DTSTART;TZID=America/New_York:20251017T090000
DTEND;TZID=America/New_York:20251017T120000
DTSTAMP:20260425T223445
CREATED:20251014T182607Z
LAST-MODIFIED:20251014T185707Z
UID:10000183-1760691600-1760702400@gogreenhilliard.com
SUMMARY:Fall Recycling Drive
DESCRIPTION:♻️ Hilliard Fall Recycling Drive ♻️🗓 Friday\, October 17 • 🕘 9:00 AM – 12:00 PM📍 Hilliard Municipal Shed (by the Little League Fields) \nJoin Go Green Hilliard and the Hilliard Environmental Sustainability Commission for our semi-annual FALL Recycling Drive! We’ll be collecting: \n\n\nDocument Shredding via Black Ops Destruction – limit 3 banker boxes per car \n\n\nElectronics Recycling via RenTek – TVs and monitors may require a fee in cash only \n\nStyrofoam Collection via the City of Hilliard – also collected 24/7 at our Municipal Shed\n\nWhat to bring✔️ Office paper (No newspapers\, magazines\, and cardboard. They should go in your curbside bin) \n✔️ Electronics (Bring computers\, peripherals\, home entertainment electronics & more. See the Recycling Drive page for a full list of accepted and not accepted items ) \n✔️ Styrofoam (No peanuts or food containers) \nWhy come?✅ Free & convenient way to securely get rid of documents & responsibly recycle electronics✅ Helps reduce waste and supports sustainable practices in our community \nSpread the word & invite your friends & neighbors! \n🌍 Let’s make Hilliard even greener. 💚 \nSee you Friday! 🚗
URL:https://gogreenhilliard.com/event/fall-recycling-drive-2/
CATEGORIES:Recycling Drive
ATTACH;FMTTYPE=image/jpeg:https://gogreenhilliard.com/wp-content/uploads/2025/10/Fall-Recycling-Drive-scaled.jpg
END:VEVENT
END:VCALENDAR