BEGIN:VCALENDAR
VERSION:2.0
PRODID:-//Go Green Hilliard - ECPv6.15.20//NONSGML v1.0//EN
CALSCALE:GREGORIAN
METHOD:PUBLISH
X-ORIGINAL-URL:https://gogreenhilliard.com
X-WR-CALDESC:Events for Go Green Hilliard
REFRESH-INTERVAL;VALUE=DURATION:PT1H
X-Robots-Tag:noindex
X-PUBLISHED-TTL:PT1H
BEGIN:VTIMEZONE
TZID:America/New_York
BEGIN:DAYLIGHT
TZOFFSETFROM:-0500
TZOFFSETTO:-0400
TZNAME:EDT
DTSTART:20260308T070000
END:DAYLIGHT
BEGIN:STANDARD
TZOFFSETFROM:-0400
TZOFFSETTO:-0500
TZNAME:EST
DTSTART:20261101T060000
END:STANDARD
BEGIN:DAYLIGHT
TZOFFSETFROM:-0500
TZOFFSETTO:-0400
TZNAME:EDT
DTSTART:20270314T070000
END:DAYLIGHT
BEGIN:STANDARD
TZOFFSETFROM:-0400
TZOFFSETTO:-0500
TZNAME:EST
DTSTART:20271107T060000
END:STANDARD
BEGIN:DAYLIGHT
TZOFFSETFROM:-0500
TZOFFSETTO:-0400
TZNAME:EDT
DTSTART:20280312T070000
END:DAYLIGHT
BEGIN:STANDARD
TZOFFSETFROM:-0400
TZOFFSETTO:-0500
TZNAME:EST
DTSTART:20281105T060000
END:STANDARD
BEGIN:DAYLIGHT
TZOFFSETFROM:-0500
TZOFFSETTO:-0400
TZNAME:EDT
DTSTART:20290311T070000
END:DAYLIGHT
BEGIN:STANDARD
TZOFFSETFROM:-0400
TZOFFSETTO:-0500
TZNAME:EST
DTSTART:20291104T060000
END:STANDARD
BEGIN:DAYLIGHT
TZOFFSETFROM:-0500
TZOFFSETTO:-0400
TZNAME:EDT
DTSTART:20300310T070000
END:DAYLIGHT
BEGIN:STANDARD
TZOFFSETFROM:-0400
TZOFFSETTO:-0500
TZNAME:EST
DTSTART:20301103T060000
END:STANDARD
END:VTIMEZONE
BEGIN:VEVENT
DTSTART;TZID=America/New_York:20270210T153000
DTEND;TZID=America/New_York:20270210T213000
DTSTAMP:20260423T172129
CREATED:20181003T172612Z
LAST-MODIFIED:20260405T193210Z
UID:10000212-1802273400-1802295000@gogreenhilliard.com
SUMMARY:Environmental Sustainability Commission Monthly Meeting
DESCRIPTION:Monthly meeting of the City of Hilliard’s Environmental Sustainability Commission \n 
URL:https://gogreenhilliard.com/event/environmental-sustainability-commission-monthly-meeting/2027-02-10/
LOCATION:Hilliard Municipal Building\, 3800 Municipal Way\, Hilliard\, OH\, 43026\, United States
END:VEVENT
BEGIN:VEVENT
DTSTART;TZID=America/New_York:20270310T153000
DTEND;TZID=America/New_York:20270310T213000
DTSTAMP:20260423T172129
CREATED:20181003T172612Z
LAST-MODIFIED:20260405T193210Z
UID:10000213-1804692600-1804714200@gogreenhilliard.com
SUMMARY:Environmental Sustainability Commission Monthly Meeting
DESCRIPTION:Monthly meeting of the City of Hilliard’s Environmental Sustainability Commission \n 
URL:https://gogreenhilliard.com/event/environmental-sustainability-commission-monthly-meeting/2027-03-10/
LOCATION:Hilliard Municipal Building\, 3800 Municipal Way\, Hilliard\, OH\, 43026\, United States
END:VEVENT
BEGIN:VEVENT
DTSTART;TZID=America/New_York:20270414T153000
DTEND;TZID=America/New_York:20270414T213000
DTSTAMP:20260423T172129
CREATED:20181003T172612Z
LAST-MODIFIED:20260405T193210Z
UID:10000214-1807716600-1807738200@gogreenhilliard.com
SUMMARY:Environmental Sustainability Commission Monthly Meeting
DESCRIPTION:Monthly meeting of the City of Hilliard’s Environmental Sustainability Commission \n 
URL:https://gogreenhilliard.com/event/environmental-sustainability-commission-monthly-meeting/2027-04-14/
LOCATION:Hilliard Municipal Building\, 3800 Municipal Way\, Hilliard\, OH\, 43026\, United States
END:VEVENT
BEGIN:VEVENT
DTSTART;TZID=America/New_York:20270512T153000
DTEND;TZID=America/New_York:20270512T213000
DTSTAMP:20260423T172129
CREATED:20181003T172612Z
LAST-MODIFIED:20260405T193210Z
UID:10000215-1810135800-1810157400@gogreenhilliard.com
SUMMARY:Environmental Sustainability Commission Monthly Meeting
DESCRIPTION:Monthly meeting of the City of Hilliard’s Environmental Sustainability Commission \n 
URL:https://gogreenhilliard.com/event/environmental-sustainability-commission-monthly-meeting/2027-05-12/
LOCATION:Hilliard Municipal Building\, 3800 Municipal Way\, Hilliard\, OH\, 43026\, United States
END:VEVENT
BEGIN:VEVENT
DTSTART;TZID=America/New_York:20270609T153000
DTEND;TZID=America/New_York:20270609T213000
DTSTAMP:20260423T172129
CREATED:20181003T172612Z
LAST-MODIFIED:20260405T193210Z
UID:10000216-1812555000-1812576600@gogreenhilliard.com
SUMMARY:Environmental Sustainability Commission Monthly Meeting
DESCRIPTION:Monthly meeting of the City of Hilliard’s Environmental Sustainability Commission \n 
URL:https://gogreenhilliard.com/event/environmental-sustainability-commission-monthly-meeting/2027-06-09/
LOCATION:Hilliard Municipal Building\, 3800 Municipal Way\, Hilliard\, OH\, 43026\, United States
END:VEVENT
BEGIN:VEVENT
DTSTART;TZID=America/New_York:20270714T153000
DTEND;TZID=America/New_York:20270714T213000
DTSTAMP:20260423T172129
CREATED:20181003T172612Z
LAST-MODIFIED:20260405T193210Z
UID:10000217-1815579000-1815600600@gogreenhilliard.com
SUMMARY:Environmental Sustainability Commission Monthly Meeting
DESCRIPTION:Monthly meeting of the City of Hilliard’s Environmental Sustainability Commission \n 
URL:https://gogreenhilliard.com/event/environmental-sustainability-commission-monthly-meeting/2027-07-14/
LOCATION:Hilliard Municipal Building\, 3800 Municipal Way\, Hilliard\, OH\, 43026\, United States
END:VEVENT
BEGIN:VEVENT
DTSTART;TZID=America/New_York:20270811T153000
DTEND;TZID=America/New_York:20270811T213000
DTSTAMP:20260423T172129
CREATED:20181003T172612Z
LAST-MODIFIED:20260405T193210Z
UID:10000218-1817998200-1818019800@gogreenhilliard.com
SUMMARY:Environmental Sustainability Commission Monthly Meeting
DESCRIPTION:Monthly meeting of the City of Hilliard’s Environmental Sustainability Commission \n 
URL:https://gogreenhilliard.com/event/environmental-sustainability-commission-monthly-meeting/2027-08-11/
LOCATION:Hilliard Municipal Building\, 3800 Municipal Way\, Hilliard\, OH\, 43026\, United States
END:VEVENT
BEGIN:VEVENT
DTSTART;TZID=America/New_York:20270908T153000
DTEND;TZID=America/New_York:20270908T213000
DTSTAMP:20260423T172129
CREATED:20181003T172612Z
LAST-MODIFIED:20260405T193210Z
UID:10000219-1820417400-1820439000@gogreenhilliard.com
SUMMARY:Environmental Sustainability Commission Monthly Meeting
DESCRIPTION:Monthly meeting of the City of Hilliard’s Environmental Sustainability Commission \n 
URL:https://gogreenhilliard.com/event/environmental-sustainability-commission-monthly-meeting/2027-09-08/
LOCATION:Hilliard Municipal Building\, 3800 Municipal Way\, Hilliard\, OH\, 43026\, United States
END:VEVENT
BEGIN:VEVENT
DTSTART;TZID=America/New_York:20271013T153000
DTEND;TZID=America/New_York:20271013T213000
DTSTAMP:20260423T172129
CREATED:20181003T172612Z
LAST-MODIFIED:20260405T193210Z
UID:10000220-1823441400-1823463000@gogreenhilliard.com
SUMMARY:Environmental Sustainability Commission Monthly Meeting
DESCRIPTION:Monthly meeting of the City of Hilliard’s Environmental Sustainability Commission \n 
URL:https://gogreenhilliard.com/event/environmental-sustainability-commission-monthly-meeting/2027-10-13/
LOCATION:Hilliard Municipal Building\, 3800 Municipal Way\, Hilliard\, OH\, 43026\, United States
END:VEVENT
BEGIN:VEVENT
DTSTART;TZID=America/New_York:20271110T153000
DTEND;TZID=America/New_York:20271110T213000
DTSTAMP:20260423T172129
CREATED:20181003T172612Z
LAST-MODIFIED:20260405T193210Z
UID:10000221-1825860600-1825882200@gogreenhilliard.com
SUMMARY:Environmental Sustainability Commission Monthly Meeting
DESCRIPTION:Monthly meeting of the City of Hilliard’s Environmental Sustainability Commission \n 
URL:https://gogreenhilliard.com/event/environmental-sustainability-commission-monthly-meeting/2027-11-10/
LOCATION:Hilliard Municipal Building\, 3800 Municipal Way\, Hilliard\, OH\, 43026\, United States
END:VEVENT
BEGIN:VEVENT
DTSTART;TZID=America/New_York:20271208T153000
DTEND;TZID=America/New_York:20271208T213000
DTSTAMP:20260423T172129
CREATED:20181003T172612Z
LAST-MODIFIED:20260405T193210Z
UID:10000222-1828279800-1828301400@gogreenhilliard.com
SUMMARY:Environmental Sustainability Commission Monthly Meeting
DESCRIPTION:Monthly meeting of the City of Hilliard’s Environmental Sustainability Commission \n 
URL:https://gogreenhilliard.com/event/environmental-sustainability-commission-monthly-meeting/2027-12-08/
LOCATION:Hilliard Municipal Building\, 3800 Municipal Way\, Hilliard\, OH\, 43026\, United States
END:VEVENT
BEGIN:VEVENT
DTSTART;TZID=America/New_York:20280112T153000
DTEND;TZID=America/New_York:20280112T213000
DTSTAMP:20260423T172129
CREATED:20181003T172612Z
LAST-MODIFIED:20260405T193210Z
UID:10000223-1831303800-1831325400@gogreenhilliard.com
SUMMARY:Environmental Sustainability Commission Monthly Meeting
DESCRIPTION:Monthly meeting of the City of Hilliard’s Environmental Sustainability Commission \n 
URL:https://gogreenhilliard.com/event/environmental-sustainability-commission-monthly-meeting/2028-01-12/
LOCATION:Hilliard Municipal Building\, 3800 Municipal Way\, Hilliard\, OH\, 43026\, United States
END:VEVENT
BEGIN:VEVENT
DTSTART;TZID=America/New_York:20280209T153000
DTEND;TZID=America/New_York:20280209T213000
DTSTAMP:20260423T172130
CREATED:20181003T172612Z
LAST-MODIFIED:20260405T193210Z
UID:10000224-1833723000-1833744600@gogreenhilliard.com
SUMMARY:Environmental Sustainability Commission Monthly Meeting
DESCRIPTION:Monthly meeting of the City of Hilliard’s Environmental Sustainability Commission \n 
URL:https://gogreenhilliard.com/event/environmental-sustainability-commission-monthly-meeting/2028-02-09/
LOCATION:Hilliard Municipal Building\, 3800 Municipal Way\, Hilliard\, OH\, 43026\, United States
END:VEVENT
BEGIN:VEVENT
DTSTART;TZID=America/New_York:20280308T153000
DTEND;TZID=America/New_York:20280308T213000
DTSTAMP:20260423T172130
CREATED:20181003T172612Z
LAST-MODIFIED:20260405T193210Z
UID:10000225-1836142200-1836163800@gogreenhilliard.com
SUMMARY:Environmental Sustainability Commission Monthly Meeting
DESCRIPTION:Monthly meeting of the City of Hilliard’s Environmental Sustainability Commission \n 
URL:https://gogreenhilliard.com/event/environmental-sustainability-commission-monthly-meeting/2028-03-08/
LOCATION:Hilliard Municipal Building\, 3800 Municipal Way\, Hilliard\, OH\, 43026\, United States
END:VEVENT
BEGIN:VEVENT
DTSTART;TZID=America/New_York:20280412T153000
DTEND;TZID=America/New_York:20280412T213000
DTSTAMP:20260423T172130
CREATED:20181003T172612Z
LAST-MODIFIED:20260405T193210Z
UID:10000226-1839166200-1839187800@gogreenhilliard.com
SUMMARY:Environmental Sustainability Commission Monthly Meeting
DESCRIPTION:Monthly meeting of the City of Hilliard’s Environmental Sustainability Commission \n 
URL:https://gogreenhilliard.com/event/environmental-sustainability-commission-monthly-meeting/2028-04-12/
LOCATION:Hilliard Municipal Building\, 3800 Municipal Way\, Hilliard\, OH\, 43026\, United States
END:VEVENT
BEGIN:VEVENT
DTSTART;TZID=America/New_York:20280510T153000
DTEND;TZID=America/New_York:20280510T213000
DTSTAMP:20260423T172130
CREATED:20181003T172612Z
LAST-MODIFIED:20260405T193210Z
UID:10000227-1841585400-1841607000@gogreenhilliard.com
SUMMARY:Environmental Sustainability Commission Monthly Meeting
DESCRIPTION:Monthly meeting of the City of Hilliard’s Environmental Sustainability Commission \n 
URL:https://gogreenhilliard.com/event/environmental-sustainability-commission-monthly-meeting/2028-05-10/
LOCATION:Hilliard Municipal Building\, 3800 Municipal Way\, Hilliard\, OH\, 43026\, United States
END:VEVENT
BEGIN:VEVENT
DTSTART;TZID=America/New_York:20280614T153000
DTEND;TZID=America/New_York:20280614T213000
DTSTAMP:20260423T172130
CREATED:20181003T172612Z
LAST-MODIFIED:20260405T193210Z
UID:10000228-1844609400-1844631000@gogreenhilliard.com
SUMMARY:Environmental Sustainability Commission Monthly Meeting
DESCRIPTION:Monthly meeting of the City of Hilliard’s Environmental Sustainability Commission \n 
URL:https://gogreenhilliard.com/event/environmental-sustainability-commission-monthly-meeting/2028-06-14/
LOCATION:Hilliard Municipal Building\, 3800 Municipal Way\, Hilliard\, OH\, 43026\, United States
END:VEVENT
BEGIN:VEVENT
DTSTART;TZID=America/New_York:20280712T153000
DTEND;TZID=America/New_York:20280712T213000
DTSTAMP:20260423T172130
CREATED:20181003T172612Z
LAST-MODIFIED:20260405T193210Z
UID:10000229-1847028600-1847050200@gogreenhilliard.com
SUMMARY:Environmental Sustainability Commission Monthly Meeting
DESCRIPTION:Monthly meeting of the City of Hilliard’s Environmental Sustainability Commission \n 
URL:https://gogreenhilliard.com/event/environmental-sustainability-commission-monthly-meeting/2028-07-12/
LOCATION:Hilliard Municipal Building\, 3800 Municipal Way\, Hilliard\, OH\, 43026\, United States
END:VEVENT
BEGIN:VEVENT
DTSTART;TZID=America/New_York:20280809T153000
DTEND;TZID=America/New_York:20280809T213000
DTSTAMP:20260423T172130
CREATED:20181003T172612Z
LAST-MODIFIED:20260405T193210Z
UID:10000230-1849447800-1849469400@gogreenhilliard.com
SUMMARY:Environmental Sustainability Commission Monthly Meeting
DESCRIPTION:Monthly meeting of the City of Hilliard’s Environmental Sustainability Commission \n 
URL:https://gogreenhilliard.com/event/environmental-sustainability-commission-monthly-meeting/2028-08-09/
LOCATION:Hilliard Municipal Building\, 3800 Municipal Way\, Hilliard\, OH\, 43026\, United States
END:VEVENT
BEGIN:VEVENT
DTSTART;TZID=America/New_York:20280913T153000
DTEND;TZID=America/New_York:20280913T213000
DTSTAMP:20260423T172130
CREATED:20181003T172612Z
LAST-MODIFIED:20260405T193210Z
UID:10000231-1852471800-1852493400@gogreenhilliard.com
SUMMARY:Environmental Sustainability Commission Monthly Meeting
DESCRIPTION:Monthly meeting of the City of Hilliard’s Environmental Sustainability Commission \n 
URL:https://gogreenhilliard.com/event/environmental-sustainability-commission-monthly-meeting/2028-09-13/
LOCATION:Hilliard Municipal Building\, 3800 Municipal Way\, Hilliard\, OH\, 43026\, United States
END:VEVENT
BEGIN:VEVENT
DTSTART;TZID=America/New_York:20281011T153000
DTEND;TZID=America/New_York:20281011T213000
DTSTAMP:20260423T172130
CREATED:20181003T172612Z
LAST-MODIFIED:20260405T193210Z
UID:10000232-1854891000-1854912600@gogreenhilliard.com
SUMMARY:Environmental Sustainability Commission Monthly Meeting
DESCRIPTION:Monthly meeting of the City of Hilliard’s Environmental Sustainability Commission \n 
URL:https://gogreenhilliard.com/event/environmental-sustainability-commission-monthly-meeting/2028-10-11/
LOCATION:Hilliard Municipal Building\, 3800 Municipal Way\, Hilliard\, OH\, 43026\, United States
END:VEVENT
BEGIN:VEVENT
DTSTART;TZID=America/New_York:20281108T153000
DTEND;TZID=America/New_York:20281108T213000
DTSTAMP:20260423T172130
CREATED:20181003T172612Z
LAST-MODIFIED:20260405T193210Z
UID:10000233-1857310200-1857331800@gogreenhilliard.com
SUMMARY:Environmental Sustainability Commission Monthly Meeting
DESCRIPTION:Monthly meeting of the City of Hilliard’s Environmental Sustainability Commission \n 
URL:https://gogreenhilliard.com/event/environmental-sustainability-commission-monthly-meeting/2028-11-08/
LOCATION:Hilliard Municipal Building\, 3800 Municipal Way\, Hilliard\, OH\, 43026\, United States
END:VEVENT
BEGIN:VEVENT
DTSTART;TZID=America/New_York:20281213T153000
DTEND;TZID=America/New_York:20281213T213000
DTSTAMP:20260423T172130
CREATED:20181003T172612Z
LAST-MODIFIED:20260405T193210Z
UID:10000234-1860334200-1860355800@gogreenhilliard.com
SUMMARY:Environmental Sustainability Commission Monthly Meeting
DESCRIPTION:Monthly meeting of the City of Hilliard’s Environmental Sustainability Commission \n 
URL:https://gogreenhilliard.com/event/environmental-sustainability-commission-monthly-meeting/2028-12-13/
LOCATION:Hilliard Municipal Building\, 3800 Municipal Way\, Hilliard\, OH\, 43026\, United States
END:VEVENT
BEGIN:VEVENT
DTSTART;TZID=America/New_York:20290110T153000
DTEND;TZID=America/New_York:20290110T213000
DTSTAMP:20260423T172130
CREATED:20181003T172612Z
LAST-MODIFIED:20260405T193210Z
UID:10000235-1862753400-1862775000@gogreenhilliard.com
SUMMARY:Environmental Sustainability Commission Monthly Meeting
DESCRIPTION:Monthly meeting of the City of Hilliard’s Environmental Sustainability Commission \n 
URL:https://gogreenhilliard.com/event/environmental-sustainability-commission-monthly-meeting/2029-01-10/
LOCATION:Hilliard Municipal Building\, 3800 Municipal Way\, Hilliard\, OH\, 43026\, United States
END:VEVENT
BEGIN:VEVENT
DTSTART;TZID=America/New_York:20290214T153000
DTEND;TZID=America/New_York:20290214T213000
DTSTAMP:20260423T172130
CREATED:20181003T172612Z
LAST-MODIFIED:20260405T193210Z
UID:10000236-1865777400-1865799000@gogreenhilliard.com
SUMMARY:Environmental Sustainability Commission Monthly Meeting
DESCRIPTION:Monthly meeting of the City of Hilliard’s Environmental Sustainability Commission \n 
URL:https://gogreenhilliard.com/event/environmental-sustainability-commission-monthly-meeting/2029-02-14/
LOCATION:Hilliard Municipal Building\, 3800 Municipal Way\, Hilliard\, OH\, 43026\, United States
END:VEVENT
BEGIN:VEVENT
DTSTART;TZID=America/New_York:20290314T153000
DTEND;TZID=America/New_York:20290314T213000
DTSTAMP:20260423T172130
CREATED:20181003T172612Z
LAST-MODIFIED:20260405T193210Z
UID:10000237-1868196600-1868218200@gogreenhilliard.com
SUMMARY:Environmental Sustainability Commission Monthly Meeting
DESCRIPTION:Monthly meeting of the City of Hilliard’s Environmental Sustainability Commission \n 
URL:https://gogreenhilliard.com/event/environmental-sustainability-commission-monthly-meeting/2029-03-14/
LOCATION:Hilliard Municipal Building\, 3800 Municipal Way\, Hilliard\, OH\, 43026\, United States
END:VEVENT
BEGIN:VEVENT
DTSTART;TZID=America/New_York:20290411T153000
DTEND;TZID=America/New_York:20290411T213000
DTSTAMP:20260423T172130
CREATED:20181003T172612Z
LAST-MODIFIED:20260405T193210Z
UID:10000238-1870615800-1870637400@gogreenhilliard.com
SUMMARY:Environmental Sustainability Commission Monthly Meeting
DESCRIPTION:Monthly meeting of the City of Hilliard’s Environmental Sustainability Commission \n 
URL:https://gogreenhilliard.com/event/environmental-sustainability-commission-monthly-meeting/2029-04-11/
LOCATION:Hilliard Municipal Building\, 3800 Municipal Way\, Hilliard\, OH\, 43026\, United States
END:VEVENT
BEGIN:VEVENT
DTSTART;TZID=America/New_York:20290509T153000
DTEND;TZID=America/New_York:20290509T213000
DTSTAMP:20260423T172130
CREATED:20181003T172612Z
LAST-MODIFIED:20260405T193210Z
UID:10000239-1873035000-1873056600@gogreenhilliard.com
SUMMARY:Environmental Sustainability Commission Monthly Meeting
DESCRIPTION:Monthly meeting of the City of Hilliard’s Environmental Sustainability Commission \n 
URL:https://gogreenhilliard.com/event/environmental-sustainability-commission-monthly-meeting/2029-05-09/
LOCATION:Hilliard Municipal Building\, 3800 Municipal Way\, Hilliard\, OH\, 43026\, United States
END:VEVENT
BEGIN:VEVENT
DTSTART;TZID=America/New_York:20290613T153000
DTEND;TZID=America/New_York:20290613T213000
DTSTAMP:20260423T172130
CREATED:20181003T172612Z
LAST-MODIFIED:20260405T193210Z
UID:10000240-1876059000-1876080600@gogreenhilliard.com
SUMMARY:Environmental Sustainability Commission Monthly Meeting
DESCRIPTION:Monthly meeting of the City of Hilliard’s Environmental Sustainability Commission \n 
URL:https://gogreenhilliard.com/event/environmental-sustainability-commission-monthly-meeting/2029-06-13/
LOCATION:Hilliard Municipal Building\, 3800 Municipal Way\, Hilliard\, OH\, 43026\, United States
END:VEVENT
BEGIN:VEVENT
DTSTART;TZID=America/New_York:20290711T153000
DTEND;TZID=America/New_York:20290711T213000
DTSTAMP:20260423T172130
CREATED:20181003T172612Z
LAST-MODIFIED:20260405T193210Z
UID:10000241-1878478200-1878499800@gogreenhilliard.com
SUMMARY:Environmental Sustainability Commission Monthly Meeting
DESCRIPTION:Monthly meeting of the City of Hilliard’s Environmental Sustainability Commission \n 
URL:https://gogreenhilliard.com/event/environmental-sustainability-commission-monthly-meeting/2029-07-11/
LOCATION:Hilliard Municipal Building\, 3800 Municipal Way\, Hilliard\, OH\, 43026\, United States
END:VEVENT
END:VCALENDAR